BEGIN:VCALENDAR
VERSION:2.0
PRODID:-//Tierheim Mayen - ECPv6.15.20//NONSGML v1.0//EN
CALSCALE:GREGORIAN
METHOD:PUBLISH
X-ORIGINAL-URL:https://tierschutzverein-mayen.de
X-WR-CALDESC:Veranstaltungen für Tierheim Mayen
REFRESH-INTERVAL;VALUE=DURATION:PT1H
X-Robots-Tag:noindex
X-PUBLISHED-TTL:PT1H
BEGIN:VTIMEZONE
TZID:Europe/Berlin
BEGIN:DAYLIGHT
TZOFFSETFROM:+0100
TZOFFSETTO:+0200
TZNAME:CEST
DTSTART:20230326T010000
END:DAYLIGHT
BEGIN:STANDARD
TZOFFSETFROM:+0200
TZOFFSETTO:+0100
TZNAME:CET
DTSTART:20231029T010000
END:STANDARD
BEGIN:DAYLIGHT
TZOFFSETFROM:+0100
TZOFFSETTO:+0200
TZNAME:CEST
DTSTART:20240331T010000
END:DAYLIGHT
BEGIN:STANDARD
TZOFFSETFROM:+0200
TZOFFSETTO:+0100
TZNAME:CET
DTSTART:20241027T010000
END:STANDARD
BEGIN:DAYLIGHT
TZOFFSETFROM:+0100
TZOFFSETTO:+0200
TZNAME:CEST
DTSTART:20250330T010000
END:DAYLIGHT
BEGIN:STANDARD
TZOFFSETFROM:+0200
TZOFFSETTO:+0100
TZNAME:CET
DTSTART:20251026T010000
END:STANDARD
BEGIN:DAYLIGHT
TZOFFSETFROM:+0100
TZOFFSETTO:+0200
TZNAME:CEST
DTSTART:20260329T010000
END:DAYLIGHT
BEGIN:STANDARD
TZOFFSETFROM:+0200
TZOFFSETTO:+0100
TZNAME:CET
DTSTART:20261025T010000
END:STANDARD
END:VTIMEZONE
BEGIN:VEVENT
DTSTART;TZID=Europe/Berlin:20251129T130000
DTEND;TZID=Europe/Berlin:20251129T150000
DTSTAMP:20260424T210143
CREATED:20251020T094003Z
LAST-MODIFIED:20251020T094003Z
UID:15180-1764421200-1764428400@tierschutzverein-mayen.de
SUMMARY:Winter-Weihnachts-Schnäppchen-Markt
DESCRIPTION:Am 29.11.25 von 13-15 Uhr öffnet sich die Flohmarkhalle ein weiteres Mal und ihr könnt nochmal zum Schnäppchenjäger werden und gleichzeitig etwas Gutes tun. Denn der Erlös kommt zu 100 Prozent unserem Tierheim zu Gute.
URL:https://tierschutzverein-mayen.de/event/winter-weihnachts-schnaeppchen-markt/
ATTACH;FMTTYPE=image/jpeg:https://tierschutzverein-mayen.de/wp-content/uploads/2025/10/Winter-Weihnachts-Flohmarkt-24-Facebook-Titelbilder.jpg
END:VEVENT
BEGIN:VEVENT
DTSTART;TZID=Europe/Berlin:20251123T130000
DTEND;TZID=Europe/Berlin:20251123T170000
DTSTAMP:20260424T210143
CREATED:20251020T093231Z
LAST-MODIFIED:20251020T093829Z
UID:15174-1763902800-1763917200@tierschutzverein-mayen.de
SUMMARY:Winter-Weihnachts-Flohmarkt
DESCRIPTION:Auch in diesem Jahr laden wir euch ganz herzlich zu unserem gemütlichen Winter-Weihnachts-Flohmarkt am 23.11.25 von 13-17 Uhr ein. \nBei uns könnt ihr in gemütlicher Atmosphäre einen heißen Glühwein trinken\, eine frisch gebackene Waffel genießen und an unseren Weihnachtsständen nach Geschenken für eure Liebsten oder für euch selbst stöbern. Zusätzlich ist natürlich unsere Flohmarkthalle bis 16 Uhr geöffnet. Unsere Flohmarktdamen haben es sich nicht nehmen lassen\, das Weihnachtsstübchen liebevoll zu dekorieren und den Raum in weihnachtlichem Ambiente strahlen zu lassen. Am 29.11.25 von 13-15 Uhr öffnet sich die Flohmarkhalle ein weiteres Mal und ihr könnt nochmal zum Schnäppchenjäger werden und gleichzeitig etwas Gutes tun. Denn der Erlös kommt zu 100 Prozent unserem Tierheim zu Gute.
URL:https://tierschutzverein-mayen.de/event/winter-weihnachts-flohmarkt-2/
LOCATION:Tierheim Mayen\, In der Pluns 1\, Mayen\, Rheinland-Pfalz\, 56727\, Germany
ATTACH;FMTTYPE=image/png:https://tierschutzverein-mayen.de/wp-content/uploads/2025/10/Winter-Weihnachts-Flohmarkt-25.png
END:VEVENT
BEGIN:VEVENT
DTSTART;TZID=Europe/Berlin:20250914T130000
DTEND;TZID=Europe/Berlin:20250914T160000
DTSTAMP:20260424T210143
CREATED:20250902T090413Z
LAST-MODIFIED:20250902T090413Z
UID:14756-1757854800-1757865600@tierschutzverein-mayen.de
SUMMARY:Flohmarkt zum Stein- und Burgfest
DESCRIPTION:Am 14. September\, passend zum verkaufsoffenen Sonntag in Mayen\, findet ein erneuter Flohmarkt in unserer großen Flohmarkthalle\, die an unser Tierheimgelände angrenzt\, statt. Wir freuen uns auf viele Trödler und Schnäppchensammler\, denn die Einnahmen fließen zu 100 Prozent in die Tierheimkasse.
URL:https://tierschutzverein-mayen.de/event/flohmarkt-zum-stein-und-burgfest/
LOCATION:Tierheim Mayen\, In der Pluns 1\, Mayen\, Rheinland-Pfalz\, 56727\, Germany
ATTACH;FMTTYPE=image/jpeg:https://tierschutzverein-mayen.de/wp-content/uploads/2025/09/flohmarkt1.jpg
END:VEVENT
BEGIN:VEVENT
DTSTART;TZID=Europe/Berlin:20250511T110000
DTEND;TZID=Europe/Berlin:20250511T170000
DTSTAMP:20260424T210143
CREATED:20250409T093351Z
LAST-MODIFIED:20250409T093459Z
UID:13612-1746961200-1746982800@tierschutzverein-mayen.de
SUMMARY:27. Volksfest für Tiere
DESCRIPTION:Am 11. Mai 2025 begrüßen wir von 11 bis 17 Uhr wieder viele Besucher\, um gemeinsam das 27. Volksfest für Tiere zu feiern. Neben Info- und Verkaufsständen gibt es in diesem Jahr wieder eine Vorführung der BRH Rettungshundestaffel Rhein-Mosel e.V. sowie die beliebte Wahl zum „Tierschutzhund des Jahres 2025“. In diesem Jahr mit einer Besonderheit: Wir bitten ehemalige Vierbeiner auf den Laufsteg\, um den Besuchern zu zeigen\, dass es den perfekten Familienhund auch im Tierheim geben kann. Abgerundet wird das Fest durch ein riesiges Kuchenbuffet\, einer warmen Theke sowie Spiel und Spaß für die Kleinsten in der Familie. Im Flohmarkt können wieder allerlei Schnäppchen ergattert und bei der Tombola großartige Preise gewonnen werden. Ausreichend Parkmöglichkeiten stehen am Bernardshof in Mayen zur Verfügung. Wir freuen uns auf zahlreiche Familien\, die den Muttertag einmal anders feiern möchten.
URL:https://tierschutzverein-mayen.de/event/27-volksfest-fuer-tiere/
LOCATION:Tierheim Mayen\, In der Pluns 1\, Mayen\, Rheinland-Pfalz\, 56727\, Germany
ATTACH;FMTTYPE=image/jpeg:https://tierschutzverein-mayen.de/wp-content/uploads/2025/04/plakat-scaled-e1744190969495.jpg
END:VEVENT
BEGIN:VEVENT
DTSTART;TZID=Europe/Berlin:20250323T130000
DTEND;TZID=Europe/Berlin:20250323T160000
DTSTAMP:20260424T210143
CREATED:20250114T121547Z
LAST-MODIFIED:20250124T191148Z
UID:12760-1742734800-1742745600@tierschutzverein-mayen.de
SUMMARY:Flohmarkt - Frühlingserwachen
DESCRIPTION:
URL:https://tierschutzverein-mayen.de/event/flohmarkt-fruehlingserwachen/
LOCATION:Tierheim Mayen\, In der Pluns 1\, Mayen\, Rheinland-Pfalz\, 56727\, Germany
ATTACH;FMTTYPE=image/jpeg:https://tierschutzverein-mayen.de/wp-content/uploads/2025/01/flohmarkt1.jpg
END:VEVENT
BEGIN:VEVENT
DTSTART;TZID=Europe/Berlin:20241124T140000
DTEND;TZID=Europe/Berlin:20241124T180000
DTSTAMP:20260424T210143
CREATED:20241112T102346Z
LAST-MODIFIED:20241112T102512Z
UID:12287-1732456800-1732471200@tierschutzverein-mayen.de
SUMMARY:Winter-Weihnachts-Flohmarkt
DESCRIPTION:24. November:\n\n\n\nUnsere Vorbereitungen laufen auf Hochtouren.\n\n\nHeiße Waffeln\, duftender Kuchen\, wärmender Glühwein und nebenbei könnt ihr euch an den Ständen allerlei Selbstgemachtes anschauen und schon die ersten Weihnachtsgeschenke ergattern.\n\n\nIn diesem Jahr haben wir mit dabei: Adventsgestecke und Türkränze\, Gestrickte und genähte Unikate\, wärmende Kleidung aus Schafwolle\, Basteln mit Kindern\, selbstgemachte Seifen\, Weihnachtsdekorationen\, Zubehör für Hund und Katze\, etc.\n\n\n\n\n\nUND unsere Flohmarkthalle ist für alle begeisterten Schnäppchenjäger geöffnet!\n\n\nKommt vorbei und lasst den Winterbasar zu einem gemütlichen\, vorweihnachtlichen Erlebnis für die ganze Familie werden!\n\n\n\nWir würden uns sehr freuen!
URL:https://tierschutzverein-mayen.de/event/winter-weihnachts-flohmarkt/
LOCATION:Tierheim Mayen\, In der Pluns 1\, Mayen\, Rheinland-Pfalz\, 56727\, Germany
ATTACH;FMTTYPE=image/jpeg:https://tierschutzverein-mayen.de/wp-content/uploads/2024/10/wwf-e1729873523598.jpg
END:VEVENT
BEGIN:VEVENT
DTSTART;TZID=Europe/Berlin:20240908T130000
DTEND;TZID=Europe/Berlin:20240908T160000
DTSTAMP:20260424T210143
CREATED:20240901T151541Z
LAST-MODIFIED:20240901T151541Z
UID:11575-1725800400-1725811200@tierschutzverein-mayen.de
SUMMARY:Tierheim Flohmarkt 8. September 2024
DESCRIPTION:Merkt euch diesen Termin unbedingt vor!\n\n\n\nAm 8. September (Sonntag) in der Zeit von 13-16 Uhr findet in unserer Halle hinter dem Tierheim ein Flohmarkt statt.\n\n\nGleichzeitig ist in der Stadt Mayen Stein- und Burgfest und auch einen Besuch wert!\n\n\n\nKommt vorbei! Wir würden uns freuen!
URL:https://tierschutzverein-mayen.de/event/tierheim-flohmarkt-8-september-2024/
LOCATION:Tierheim Mayen\, In der Pluns 1\, Mayen\, Rheinland-Pfalz\, 56727\, Germany
END:VEVENT
END:VCALENDAR